BEGIN:VCALENDAR
VERSION:2.0
PRODID:-//Lucerne Australia - ECPv6.5.1//NONSGML v1.0//EN
CALSCALE:GREGORIAN
METHOD:PUBLISH
X-ORIGINAL-URL:https://www.lucerneaustralia.org.au
X-WR-CALDESC:Events for Lucerne Australia
REFRESH-INTERVAL;VALUE=DURATION:PT1H
X-Robots-Tag:noindex
X-PUBLISHED-TTL:PT1H
BEGIN:VTIMEZONE
TZID:Australia/Adelaide
BEGIN:STANDARD
TZOFFSETFROM:+1030
TZOFFSETTO:+0930
TZNAME:ACST
DTSTART:20230401T163000
END:STANDARD
BEGIN:DAYLIGHT
TZOFFSETFROM:+0930
TZOFFSETTO:+1030
TZNAME:ACDT
DTSTART:20230930T163000
END:DAYLIGHT
END:VTIMEZONE
BEGIN:VEVENT
DTSTART;TZID=Australia/Adelaide:20230216T080000
DTEND;TZID=Australia/Adelaide:20230216T110000
DTSTAMP:20260423T191152
CREATED:20221101T232035Z
LAST-MODIFIED:20230127T043429Z
UID:2051-1676534400-1676545200@www.lucerneaustralia.org.au
SUMMARY:Lucerne Australia Best Practice Spray Application Workshop
DESCRIPTION:Lucerne Australia Best Practice Spray Application Workshop. \nPresented by Mary O’Brien (consultant agronomist) – Mary O’Brien Rural Enterprises. \nVenue: 1621 Riddoch Highway\, Keith\, SA \nTime: 8.00am-11.00am \nRegistration and Cost: \nTo attend please register by 5pm 14th February. BYO chairs. \nLucerne Australia Members – Text 0439 538 332 or Email info@lucerneaustralia.org.au (No cost) \nMacKillop Farm Management Group Members – Register at www.mackillopgroup.com.au/calendar-of-events ($25 per person) \nAll Non-Members – Register at www.mackillopgroup.com.au/calendar-of-events ($100 per person) \nThis event is supported by the AgriFutures Australia Producer Technology Uptake Program. \n 
URL:https://www.lucerneaustralia.org.au/event/lucerne-australia-best-practice-spray-application-and-new-spray-technology-workshop/
LOCATION:Brecon\, 1621 Riddoch Highway\, Keith\, South Australia\, 5267\, Australia
ATTACH;FMTTYPE=image/jpeg:https://www.lucerneaustralia.org.au/wp-content/uploads/2022/11/SprayTechDay2023-scaled.jpg
ORGANIZER;CN="Lucerne Australia":MAILTO:info@lucerneaustralia.org.au
END:VEVENT
END:VCALENDAR